BEGIN:VCALENDAR
VERSION:2.0
PRODID:-//wp-events-plugin.com//6.6.3//EN
TZID:Europe/Bucharest
X-WR-TIMEZONE:Europe/Bucharest
BEGIN:VEVENT
UID:4@wbcromania.ro
DTSTART;TZID=Europe/Bucharest:20241016T193000
DTEND;TZID=Europe/Bucharest:20241016T213000
DTSTAMP:20241001T092612Z
URL:https://wbcromania.ro/evenimente/valorificarea-resurselor-prin-partene
 riate-strategice-pentru-expansiunea-afacerii/
SUMMARY:Valorificarea Resurselor prin Parteneriate Strategice pentru Expans
 iunea Afacerii
DESCRIPTION:Cea de-a doua ediție a Wellzone Business Club (WBC) este un ev
 eniment dedicat explorării și valorificării resurselor prin parteneriat
 e strategice pentru expansiunea afacerii.\n\nCe te așteaptă?\n\n 	Parten
 eriate Strategice: Vei discuta despre identificare și valorificarea parte
 neriatelor care pot aduce un avantaj competitiv și contribuie la expansiu
 nea afacerii tale.\n 	Strategii de Creștere: Participanții vor discuta d
 espre cele mai eficiente metode de utilizare a resurselor pentru a sprijin
 i dezvoltarea afacerii.\n 	Networking de Calitate: Vei avea ocazia să int
 eracționezi cu alți lideri de afaceri și să construiești relații val
 oroase care pot duce la oportunități de colaborare și dezvoltare.\n\nDe
 talii Eveniment:\n\n 	Confirmare Participare: Te rugăm să îți confirmi
  participarea și să achiți taxa de participare cu cel puțin o zi înai
 nte de data evenimentului. Acest lucru ne ajută să estimăm numărul de 
 participanți și să organizăm întâlnirile cât mai eficient.\n 	Recom
 andări și Invitarea Participanților: Fiecare membru al Wellzone Busines
 s Club are oportunitatea de a aduce unul sau mai mulți invitați care con
 sideră că ar aduce valoare clubului sau evenimentului nostru. Te rugăm 
 să le transmiți acestora informațiile necesare și să îi încurajezi 
 să completeze formularul de înscriere disponibil pe site-ul nostru. De a
 semenea\, invitații trebuie să achite taxa de participare înainte de ev
 eniment\, pentru a își confirma prezența și a avea acces la bufetul su
 edez. Astfel\, ne ajutăm reciproc să construim o comunitate din ce în c
 e mai puternică și diversificată.\n 	Taxă de Participare: urmează a s
 e comunica\n\nREZERVĂ UN LOC:\nRezervările sunt închise pentru moment.\
 n\nLocația urmează a se comunica în curând.
ATTACH;FMTTYPE=image/jpeg:https://wbcromania.ro/wp-content/uploads/2024/08
 /WBC-2.jpg
CATEGORIES:Evenimente WBC
END:VEVENT
BEGIN:VTIMEZONE
TZID:Europe/Bucharest
X-LIC-LOCATION:Europe/Bucharest
BEGIN:DAYLIGHT
DTSTART:20240331T040000
TZOFFSETFROM:+0200
TZOFFSETTO:+0300
TZNAME:EEST
END:DAYLIGHT
END:VTIMEZONE
END:VCALENDAR