BEGIN:VCALENDAR
VERSION:2.0
PRODID:-//wp-events-plugin.com//6.6.3//EN
TZID:Europe/Bucharest
X-WR-TIMEZONE:Europe/Bucharest
BEGIN:VEVENT
UID:1@wbcromania.ro
DTSTART;TZID=Europe/Bucharest:20240911T193000
DTEND;TZID=Europe/Bucharest:20240911T213000
DTSTAMP:20240830T084350Z
URL:https://wbcromania.ro/evenimente/de-la-idei-la-afaceri/
SUMMARY:De la idei\, la afaceri
DESCRIPTION:Bun venit la prima întâlnire a Wellzone Business Club (WBC) 
 – De la Idei\, la Afaceri! Acest eveniment este gândit pentru a aduce 
 împreună antreprenori și profesioniști într-un cadru informal și int
 eractiv. Scopul nostru este să ne cunoaștem mai bine\, să explorăm ide
 i și să descoperim noi oportunități de afaceri\, în timp ce ne inspir
 ăm și ne susținem reciproc.\n\nCe te așteaptă?\n\n 	Prezentări Indiv
 iduale: Fiecare participant va avea ocazia să își prezinte business-ul 
 și să împărtășească de ce este prezent la acest eveniment. Aceasta 
 este o oportunitate excelentă pentru a descoperi proiectele și obiective
 le colegilor tăi și pentru a identifica potențiale colaborări.\n 	Netw
 orking Interactiv: În timpul evenimentului\, vei putea să te conectezi c
 u alți participanți\, să discuți despre idei și oportunități\, și 
 să îți extinzi rețeaua profesională.\n 	Bufet Suedez: Pe parcursul î
 ntregii întâlniri\, vei avea la dispoziție un bufet suedez\, care îți
  va oferi gustări și băuturi în timp ce interacționezi și construie
 ști relații.\n\nDetalii Eveniment:\n\n 	Confirmare Participare: Te rugă
 m să îți confirmi participarea și să achiți taxa de participare cu c
 el puțin o zi înainte de data evenimentului. Acest lucru ne ajută să e
 stimăm numărul de participanți și să organizăm întâlnirile cât ma
 i eficient.\n 	Recomandări și Invitarea Participanților: Fiecare membru
  al Wellzone Business Club are oportunitatea de a aduce unul sau mai mulț
 i invitați care consideră că ar aduce valoare clubului sau evenimentulu
 i nostru. Te rugăm să le transmiți acestora informațiile necesare și 
 să îi încurajezi să completeze formularul de înscriere disponibil pe 
 site-ul nostru. De asemenea\, invitații trebuie să achite taxa de partic
 ipare înainte de eveniment\, pentru a își confirma prezența și a avea
  acces la bufetul suedez. Astfel\, ne ajutăm reciproc să construim o com
 unitate din ce în ce mai puternică și diversificată.\n 	Taxă de Parti
 cipare: 120 lei/participant (TVA inclus)\, care include accesul la bufetul
  suedez (se achită doar online)\n\nREZERVĂ UN LOC:\n\n\n\nwindow.jotform
 EmbedHandler("iframe[id='JotFormIFrame-242251341499356']"\, "https://form.
 jotform.com/")
ATTACH;FMTTYPE=image/jpeg:https://wbcromania.ro/wp-content/uploads/2024/08
 /WBC-1-De-la-Idei-la-Afaceri.jpg
CATEGORIES:Evenimente WBC
LOCATION:Restaurant Bellini Garden\, Strada General H. M. Berthelot 44\, Bu
 charest\, România\, 010164\, Sector 1\, România
GEO:44.441087;26.086946
X-APPLE-STRUCTURED-LOCATION;VALUE=URI;X-ADDRESS=Strada General H. M. Berthe
 lot 44\, Bucharest\, România\, 010164\, Sector 1\, România;X-APPLE-RADIU
 S=100;X-TITLE=Restaurant Bellini Garden:geo:44.441087,26.086946
END:VEVENT
BEGIN:VTIMEZONE
TZID:Europe/Bucharest
X-LIC-LOCATION:Europe/Bucharest
BEGIN:DAYLIGHT
DTSTART:20240331T040000
TZOFFSETFROM:+0200
TZOFFSETTO:+0300
TZNAME:EEST
END:DAYLIGHT
END:VTIMEZONE
END:VCALENDAR